0.5
0
0
-0.5
563282.158615792
4707969.46198999
