0.5
0
0
-0.5
566591.635564852
4719568.49205365
