0.5
0
0
-0.5
570032.866867387
4717289.73279557
