0.5
0
0
-0.5
583735.273983399
4715131.39299739
