0.5
0
0
-0.5
573501.369067214
4712699.38257786
