0.5
0
0
-0.5
614357.39320576
4724831.7020822
