0.5
0
0
-0.5
604147.326636758
4722354.12371932
