0.5
0
0
-0.5
597380.873370593
4717626.50832931
