0.5
0
0
-0.5
618051.311708093
4708696.66627611
