0.5
0
0
-0.5
631433.475544158
4725139.38034336
