0.5
0
0
-0.5
621310.708700329
4718009.71923028
