0.5
0
0
-0.5
624855.613570279
4711131.25741748
