0.5
0
0
-0.5
546198.226774266
4703205.50629473
