0.5
0
0
-0.5
573726.047155829
4691880.72471501
