0.5
0
0
-0.5
590911.719597674
4689773.86141099
