0.5
0
0
-0.5
604394.202392624
4706161.23815456
