0.5
0
0
-0.5
611392.505101575
4697016.08401012
