0.5
0
0
-0.5
624981.733498849
4704191.39313255
