0.5
0
0
-0.5
591064.444925484
4678208.17919846
