0.5
0
0
-0.5
601411.846023814
4676038.8155124
