0.5
0
0
-0.5
625275.598629863
4687998.76038214
