0.5
0
0
-0.5
615283.133311045
4669314.47225623
