0.5
0
0
-0.5
598201.914841188
4659797.36868816
