0.5
0
0
-0.5
618922.850201704
4657807.01616777
