0.5
0
0
-0.5
608614.740564205
4655324.9869328
