1
0
0
-1
647761.198512622
4757971.51270031
