1
0
0
-1
647863.3613016
4753344.88409852
