1
0
0
-1
593626.558341268
4738480.85414628
