1
0
0
-1
552983.476300484
4705640.99782525
