1
0
0
-1
608368.949123045
4669289.50308595
