1
0
0
-1
599602.819464927
4794104.12360148
