1
0
0
-1
579654.133792
4766063.63462951
