1
0
0
-1
654346.545918365
4767378.5861
