2.5
0
0
-2.5
675242.245437042
4744973.36403417
