0.5
0
0
-0.5
603544.711566957
4761681.69638201
