0.5
0
0
-0.5
593514.903631323
4749965.35989589
