0.5
0
0
-0.5
630898.536150732
4752899.46067574
