0.5
0
0
-0.5
644603.309247134
4748548.92731988
