0.5
0
0
-0.5
661566.358092976
4751245.69779972
