0.5
0
0
-0.5
678518.380087026
4753984.8236101
