0.5
0
0
-0.5
552812.240591647
4733327.89024489
