0.5
0
0
-0.5
556222.902259486
4733355.50919969
