0.5
0
0
-0.5
563044.205905234
4733415.81283381
