0.5
0
0
-0.5
586888.243178663
4735994.10297168
