0.5
0
0
-0.5
576738.856042086
4728930.37886845
