0.5
0
0
-0.5
593738.975472677
4733771.64682386
