0.5
0
0
-0.5
600628.476273266
4729242.66378679
