0.5
0
0
-0.5
638076.885144787
4734527.41854121
