0.5
0
0
-0.5
654972.397011442
4741833.99118604
