0.5
0
0
-0.5
651668.230436872
4737130.68951157
